BEGIN:VCALENDAR
VERSION:2.0
PRODID:-//Delta County Chamber of Commerce - ECPv6.15.20//NONSGML v1.0//EN
CALSCALE:GREGORIAN
METHOD:PUBLISH
X-ORIGINAL-URL:http://deltacountychamber.com
X-WR-CALDESC:Events for Delta County Chamber of Commerce
REFRESH-INTERVAL;VALUE=DURATION:PT1H
X-Robots-Tag:noindex
X-PUBLISHED-TTL:PT1H
BEGIN:VTIMEZONE
TZID:UTC
BEGIN:STANDARD
TZOFFSETFROM:+0000
TZOFFSETTO:+0000
TZNAME:UTC
DTSTART:20240101T000000
END:STANDARD
END:VTIMEZONE
BEGIN:VEVENT
DTSTART;TZID=UTC:20250426T180000
DTEND;TZID=UTC:20250426T220000
DTSTAMP:20260424T120525
CREATED:20250421T175044Z
LAST-MODIFIED:20250421T175145Z
UID:1388-1745690400-1745704800@deltacountychamber.com
SUMMARY:Chamber Banquet - Casino Night
DESCRIPTION:  \nWelcome to the Delta County Chamber of Commerce Annual Banquet!! \nSchedule of Events: \n\nWelcome\nInvocation/Pledge – Gary Thompson\nIntros / Special Guests\nDinner – Ribeye Steaks\, Loaded Mashed Potatoes\, Green Beans\, Salad\, Rolls\, Casino Cupcakes\nAwards Ceremony\n\nAgriculturist of the Year: Presented by Farm Bureau\nBusiness of the Year\nVolunteer of the Year\nNew Business of the Year\nChamber Member of the Year\nPrimary Educator\nSecondary Educator\nFamily Values Award\nCommunity Partner\nHometown Pride\nCommunity Impact\nPublic Service Award\nCommunity Appreciation\n\n\nCasino Play by WhiteFelt Casino Games\n\nEach player will be given $2000 in funny money to spend on the game(s) of your choice (3 black jack tables\, roulette\, craps or poker). For every $500 in funny money you turn in\, at the end of the night\, you will be given 1 raffle ticket. Raffle tickets may be put into any jar of your choosing. Drawings will be held at 9:45pm. You do NOT have to be present to win.\n$2000 Extra Funny Money may be purchased for an additional $20. (Exact change\, venmo or check only please\, as we will not have change). Our Venmo QR codes will be provided at each table for easy access.\n\n\nAn award will be given to the one who wins the most!!\nFirst one to go BROKE gets a special prize too!! Be the first to loose all your money and report to Tammi Springett!\nWe thank you for supporting the DCCC and for joining us tonight – Your Board of Directors\n\nPresident – Tammi Springett \nVice President – Rhalie Green \nTreasurer – Carrie Ingram \nMember at Large – Lucas Hamrick \nCarmen Frazier \nWelton Pickering \nCourtney Stewart \nJerry Williams \nBrenda Stewart \nCourtney Hocutt \nRichie Huie \nKenneth Rutherford \nAshley Pittman \nLisa Sprangue \nKeri Fouse – Managing Director
URL:http://deltacountychamber.com/event/chamber-banquet-casino-night/
LOCATION:east delta community center\, 2353 County Road 1220\, Lake Creek\, 75450\, United States
ATTACH;FMTTYPE=image/png:http://deltacountychamber.com/wp-content/uploads/2025/04/casino-night.png
ORGANIZER;CN="Delta County Chamber of Commerce":MAILTO:deltaccc@yahoo.com
END:VEVENT
END:VCALENDAR