BEGIN:VCALENDAR
VERSION:2.0
PRODID:-//Delta County Chamber of Commerce - ECPv6.15.20//NONSGML v1.0//EN
CALSCALE:GREGORIAN
METHOD:PUBLISH
X-ORIGINAL-URL:http://deltacountychamber.com
X-WR-CALDESC:Events for Delta County Chamber of Commerce
REFRESH-INTERVAL;VALUE=DURATION:PT1H
X-Robots-Tag:noindex
X-PUBLISHED-TTL:PT1H
BEGIN:VTIMEZONE
TZID:UTC
BEGIN:STANDARD
TZOFFSETFROM:+0000
TZOFFSETTO:+0000
TZNAME:UTC
DTSTART:20240101T000000
END:STANDARD
END:VTIMEZONE
BEGIN:VEVENT
DTSTART;TZID=UTC:20251024T170000
DTEND;TZID=UTC:20251024T183000
DTSTAMP:20260424T130915
CREATED:20250811T202618Z
LAST-MODIFIED:20250811T202618Z
UID:1398-1761325200-1761330600@deltacountychamber.com
SUMMARY:C&M Circus in Cooper
DESCRIPTION:CULPEPPER & MERRIWEATHER CIRCUS \nOCTOBER 24\, 2025 (5pm-6:30pm) and (7pm-8:30pm) \nFor 32 weeks of the year\, Culpepper & Merriweather circus brings an action-packed 90 minute show to over 200 towns in 17 different states …Enjoyable for all children of all ages! Bring the toddlers\, kids\, teenagers AND grandparents! \nWith the help of the Delta County Chamber of Commerce “we’re thrilled to bring you a brand new show for 2025! From beautiful animals to high-flying aerialists our show truly has something for everyone! Our show is 90 minutes of fast-paced fun. You won’t want to miss America’s last traditional Big Top Circus. \n2025 Cast: \n\nRomichel Macias – Foot Juggling\nTrey Key – Big Cats\nArlise Troupe – Unicycles\nPerez Duo – Wheel of Destiny & Tight Wire\nLeo – Circus Clown\nSimone Key – Trapeze & Fire Eating\nUrsula Cortez – Contortion\n\n“We are proud to share our lives with animals both in and out of the circus ring. All of our animals are captive-bred and the majority are rescues. We are licensed and inspected by USDA and our animals are seen by a veterinarian every 30 days. We are lucky enough to have a team of world-class vets all over the country. \nAll of our animals are trained using positive reinforcement. In the show you will see animals rewarded with their favorite treats for performing behaviors. No two animal acts are ever the same! Our animals have the choice of which behaviors they feel like doing. Some days that means they do everything asked of them\, and other days they feel like making their trainers look a little silly. \nBig Cats: Wendell the Lion\, came to us after he was surrendered by an exotic pet owner after he grew too big to manage. He was very happy to report that his handler Trey is now his best buddy! He is a growing brave boy with loads of confidence. Each act is a training session you’ll get to see live. ” \n-Culpepper & Merriweather Circus \n  \nTICKET PRICING: ON SALE SOON \nADVANCE – Sold by the Chamber – proceeds benefit our community – Contact 903-395-4314 \n\nADULT – $13\nKIDS (2-12) – $8\nSENIORS (65+) – $8\n\nAT THE GATE – Sold by Circus \n\nADULT – $16\nKIDS (2-12) – $9\nSENIORS (65+) – $9\n\nCHILDREN UNDER 2 YEARS OF AGE DO NOT REQUIRE A TICKET FOR ADMISSION. THERE IS NO REFUNDS OR EXCHANGES ON ANY TICKETS SOLD BY THE SPONSOR OR THE CIRCUS! \n  \n  \n 
URL:http://deltacountychamber.com/event/cm-circus-in-cooper/
LOCATION:City Park\, 125 CR 4120\, Cooper\, TX\, 75432\, United States
ATTACH;FMTTYPE=image/jpeg:http://deltacountychamber.com/wp-content/uploads/2025/08/circus-logo.jpg
ORGANIZER;CN="Delta County Chamber of Commerce":MAILTO:deltaccc@yahoo.com
END:VEVENT
BEGIN:VEVENT
DTSTART;TZID=UTC:20251025T180000
DTEND;TZID=UTC:20251025T193000
DTSTAMP:20260424T130915
CREATED:20210510T185555Z
LAST-MODIFIED:20250811T190617Z
UID:407-1761415200-1761420600@deltacountychamber.com
SUMMARY:Trunk-Or-Treat
DESCRIPTION:Candy\, Costumes and Decorations OH MY!!! Come enjoy our small town trunk-or-treat. Dress up and participate in the costume fun\, decorate your car/trunk for the trunk decorating contest\, or bring the kids for all the Trunk-Or-Treating Candy!!\n \nDelta County Chamber of Commerce Trunk Or Treat. No Fee to register. Please Register by October 24th at 5pm. Forms can be turned in to the Chamber office mailbox or submitted online below \nTrunks\, Please be in the parking lot with your car ready by 5:30pm. Kids will arrive at 6. Parking lot will be open at 4:30PM for set up. Arriving late can be a safety hazard for people and kids walking around. Your trunk can be decorated beforehand\, or you can decorate when you arrive. \n*** BRING LOTS OF CANDY!! Based on previous years\, we estimate an average of 1000-1200 kids. Vendors run out almost every year. We want all the kids to have a great time. It is recommended to bring at least 1000 pieces of candy and hand out 1 per kid*** \nWe cannot provide extension cords or electricity to your trunk. \nYou are welcome to bring a folding chair and sit next to your trunk so you do not have to stand the entire time. \nHaving a simple game (like ring toss\, guessing something\, picking up something with a number under it and winning that many “things:\,) a simple craft (coloring\, putting something together\, stringing beads\, etc.) or another interactive activity (like a photo op) would be something fun \n\nfor the kids to do at your trunk. But it is certainly not required. \nYou do NOT have to dress up \nYou will not be able to leave until 7:30/7:45pm because it would be too difficult and dangerous to drive your car around the children. \nBe creative with your decorations! Prizes will be given for the SCARIEST\, FUNNIEST\, MOST CREATIVE\, CUTEST\,  and BEST OVERALL \n\nTHEMED TRUNK and more !!! \nSAFETY GUIDELINES: \nWe are dedicated to the safety of your children and our community. Please adhere to the following guidelines in order minimize the spread of Germs. \n\nNo child should reach into the bowls of candy. All candy should be distributed by the person at the trunk. It is recommended the distributor wear gloves at all times when handling the candy.\nAll participants in the lines should practice social distancing. Please be spaced at least 6 feet from other family units in line.\nPlease monitor your health and the health of your child. If you (they) have any symptoms\, do not feel good\, or are running a fever\, PLEASE stay at home.\nThe Delta County Chamber of Commerce will not be held responsible if anyone in a participating party becomes ill.\n\nPlease enable JavaScript in your browser to complete this form.Name of Trunk *Family or Business Contact Name *Are You a Chamber Member? *YesNoNo\, But I Would Like More InformationPhone Number *Email *Vehicle Make/Model Description *Trunk Category *ScariestUniqueFunniestCharacterTrunk Details (Optional)Submit
URL:http://deltacountychamber.com/event/trunk-or-treat/
LOCATION:Cooper Square\, 60 NW 1st Street\, Cooper\, TX\, 75432\, United States
ATTACH;FMTTYPE=image/jpeg:http://deltacountychamber.com/wp-content/uploads/2021/05/pumpkin-image.jpg
ORGANIZER;CN="Delta County Chamber of Commerce":MAILTO:deltaccc@yahoo.com
END:VEVENT
BEGIN:VEVENT
DTSTART;TZID=UTC:20251206T183000
DTEND;TZID=UTC:20251206T183000
DTSTAMP:20260424T130915
CREATED:20210510T204722Z
LAST-MODIFIED:20250902T195545Z
UID:410-1765045800-1765045800@deltacountychamber.com
SUMMARY:Christmas Parade of Lights
DESCRIPTION:Join us Saturday\, December 6th as we celebrate Christmas with the Delta County Parade of Lights \n**PARADE ROUTE** Start at Three Rusty Nails\, turn right on Dallas\, drive thru Birchwood and wave to the residents\, U-Turn\, & head back down Dallas towards the square. Go around the square and end back at Three Rusty Nails. \nParade Theme: TBD\nAWARDS: \nGrand Marshall \nBest Church Entry \nBest Family Entry \nPresident’s Award \nMayor’s Award \nMost Lighted \n5:00 Line Up LOCATION Three Rusty Nails \n5:30 Judging LOCATION Three Rusty Nails – Judging will be based on theme\, participation\, effort\, and all around holiday spirit. \n6:30 Parade Begins  \nMust Complete a Parade Entry Form and return to the Chamber or Fill out the section below by December 1\, 2025 to qualify for parade prizes \nFill out the information below to register your Christmas Parade of Lights Entry: \nPlease enable JavaScript in your browser to complete this form.Name of Organization *Title of Entry *Contact Person *Phone *Email *Type of Entry *FloatFamilyChurchATVOtherWill your float have music/sound ?? *YesNoOther - please explain belowThis information is necessary so that we do not have too much noise competing against each other. Tell us About your Float (Participant Names\, Theme\, Characters\, interesting facts) *How Big Is your Float? (1 vehicle\, how long of trailer\,...) *Submit  \n\n\n\n  \n 
URL:http://deltacountychamber.com/event/christmas-parade-of-lights/
LOCATION:Cooper Square\, 60 NW 1st Street\, Cooper\, TX\, 75432\, United States
ATTACH;FMTTYPE=image/jpeg:http://deltacountychamber.com/wp-content/uploads/2021/05/Messenger_creation_1146466930713647.jpeg
ORGANIZER;CN="Delta County Chamber of Commerce":MAILTO:deltaccc@yahoo.com
END:VEVENT
BEGIN:VEVENT
DTSTART;VALUE=DATE:20260411
DTEND;VALUE=DATE:20260412
DTSTAMP:20260424T130915
CREATED:20210824T145632Z
LAST-MODIFIED:20260320T145335Z
UID:486-1775865600-1775951999@deltacountychamber.com
SUMMARY:Delta County Fair
DESCRIPTION:Howdy Ya’ll!!! The Delta County Chamber of Commerce has a slew of events planned for the County Fair this season. More events to be announced soon. Schedule and events are subject to change. \nPremier Sponsors: \nGold Sponsors: \n \nSilver Sponsors: \n   \n  \nBronze Sponsors: \n   \nPARTNERS:  \n4 Wheel Crazy – AAA Bounce – Game City DFW – HOOPS East Texas – \n  \nInterested in being a County Fair Sponsor?\nSchedule of Events (More Detail To Come)\n6:30am-8:30am – Vendor Set Up/ Information  \n9:00am – Vendors Open \nWristband Section Open – $20 all day fun \nLiability Waiver \nMusic by TBD \n1:00pm –  Li Sher Dance Studio Performers \n** All Games close at 5pm \nVendor Information:\nGeneral Information and Guidelines:              Booth Size Available: 10’x10’ space \nBooths: $50 each ($40 for Chamber Members) \n\nEvent Location: Cooper Town Square\, Cooper Texas 75432\nVendor Hours: Saturday April 11\, 2026 from 9am-5pm\nSet up time: Saturday April 11\, 2026 from 6:30am to 9am. All vehicles must be moved from vendor space by 9am. Vendors must not leave before 3PM\nAll items for sale must be in good taste and suitable for family viewing. For safety reason\, no kid’s pellet guns allowed. Sponsors may disallow any items in bad taste and not suitable.\nYour entry booth operation (including ropes\, pegs\, etc.) must fit into your allotted space. You may purchase another space if needed. Please clearly state your needs on your entry form.\nEach vendor is responsible for providing everything necessary for display and sale of their merchandise. Electricity and water are available for an additional $10.00 each on a limited basis. Please state this need on the entry form. Be prepared to provide your own heavy-duty cords and water hose. Please provide notice to the Chamber if 220 amps are needed.\nNo REFUNDS will be made. There will be a Late Application Fee of $10.00 for Vendor Registration after April 1.\n\nIn consideration of permission to operate a Booth at the Delta County Fair\, the Vendor signing agrees to forever indemnify\, defend and hold harmless The Delta County Chamber of Commerce\, The City of Cooper\, Texas\, Delta County and their elected officials\, employees\, board members and volunteers from and against any and all claims\, suits\, or actions of any kind brought by third parties as a result of injuries sustained as a result of Vendor’s activities at the Delta County Fair \n Please complete this form. Enclose check\, cash or Money Order made payable to: Delta County Chamber of Commerce and mail to 41 West Side Square\, Cooper\, TX 75432. Vendor Forms will not be processed without payment. Contact the Chamber Office 903395.4314 or email deltaccc@yahoo.com. \nPlease enable JavaScript in your browser to complete this form.Business Name *Contact Name *Phone Number *Address (Street\, City\, State\, Zip) *Email Address *Are You A Chamber Member? Did you know you could save $10 by becoming a member\, plus more benefits? *No\, I'm not a member. I'll pay full price.Yes\, I am a member! WooHoo!!I'd like more information please.This Event is taking Place in COOPER\, TEXAS *Yes I am awareIs this your first time as a vendor to the Delta County Fair? *Nope\, been there\, done that!Yes\, I'm so excited!Booth Type (10'x10') Arts/CraftsCommercial BooothGame/ ActivityFoodOther "please explain below"Briefly Describe Your Service\, Products\, or Menu  *Will you be using a noisy generator? *YesNoMine is not too loudBooth Spaces  *1 $502 $1003 $1501 ($40 Membership Discount or Non-Profit)Available Amenities (Cost is Extra & Supply is Limited)110 Electricity  ($10.00 per outlet)Water ($10.00)Number of Electric Outlets Required (if applicable)We often have DJs or Loud Music on site. Does loud music bother you?? *Yes! Keep me away from loud speakersNo! I want to be close to the actionI'm good with eitherHow Can We Make Your Day Perfect?Please list any specifications your booth may require such as a corner\, space for trailers to move in and out\, preferences in location or to be located by another vendor...How would you like to pay? *I'll send a check to 41 W Side Square\, Cooper TX 75432Please call me for Credit Card over the phonePlease send an invoice to the above email addressI have questions still\, please call me.Submit
URL:http://deltacountychamber.com/event/delta-county-fair/
LOCATION:Cooper Square\, 60 NW 1st Street\, Cooper\, TX\, 75432\, United States
ATTACH;FMTTYPE=image/jpeg:http://deltacountychamber.com/wp-content/uploads/2021/08/fair-image.jpg
ORGANIZER;CN="Delta County Chamber of Commerce":MAILTO:deltaccc@yahoo.com
END:VEVENT
END:VCALENDAR