BEGIN:VCALENDAR
VERSION:2.0
PRODID:-//Delta County Chamber of Commerce - ECPv6.15.20//NONSGML v1.0//EN
CALSCALE:GREGORIAN
METHOD:PUBLISH
X-ORIGINAL-URL:http://deltacountychamber.com
X-WR-CALDESC:Events for Delta County Chamber of Commerce
REFRESH-INTERVAL;VALUE=DURATION:PT1H
X-Robots-Tag:noindex
X-PUBLISHED-TTL:PT1H
BEGIN:VTIMEZONE
TZID:UTC
BEGIN:STANDARD
TZOFFSETFROM:+0000
TZOFFSETTO:+0000
TZNAME:UTC
DTSTART:20230101T000000
END:STANDARD
END:VTIMEZONE
BEGIN:VEVENT
DTSTART;TZID=UTC:20241213T080000
DTEND;TZID=UTC:20241215T180000
DTSTAMP:20260425T191226
CREATED:20240827T175608Z
LAST-MODIFIED:20241214T184049Z
UID:1277-1734076800-1734285600@deltacountychamber.com
SUMMARY:Christmas on the Square
DESCRIPTION:Join us for our first Christmas on the Square in Downtown Cooper. Your local businesses have prepared a Special Christmas Experience from December 13-15. Enjoy an itinerary full of specials\, deals and Christmas memory making fun\, all while supporting your local businesses. \nLet’s support our businesses as they support and sponsor us and our youth groups all year! \n“The Shop Local/Shop Small trend has many benefits\, such as building relationships within the community and helping support the local economy\, all while building a more vibrant and unified society. Really\, who doesn’t feel a bit more warm and fuzzy knowing that they’re supporting their neighbors?” \nCalendar of Events \nFriday\, December 13th \n\n6am-10am – Vetch Farm and Home – Drive Through Coffee and more. Inside open from 10am-7pm. (111 NW 1st St)\n\n9am -6pm – Bryarly Rose Bakery – Photo OPs with Santa\, Cookie Decorating\, Holiday Market Vendors (21 North Side Square) \n\n9am-5pm – Sweet Pea Boutique – Drawings & Door Prizes (161 E Dallas)\n\n9am-5pm – Cooper Outlet Pawn Shop –  Christmas Treats and in-store Special Discounts (70 East Side Square)\n11am-9pm – 7F Waterin’ Hole & Grub House – Specialty Menu Items (60 S Side Sq) \n\n11am-9pm – 903 Pizzeria & Pub – FREE Margarita or Beer with the purchase of any meal. (30 S Side Sq)\n11am-5pm – Rosie & Co.  12 Days of Christmas Discounts and Giveaways (80 S Side Sq)\n11am-5pm – Corndog & Weasel Traveling Salvation Show Presents Christmas  Concert Featuring Gigi N’ Randy and Lady G (On the Square) \nNoon-6pm – Southern Faith Designs – Open (41 West Side Square)\n2pm-9pm – Chamber Escape Room Open – The Great Gingerbread Escape. For reservations call 903-395-4314. 4-6 players ($10 each). (41 West Side Square) \n4pm-7pm – Funky Fresh Rags – Hat Bar Party (Operating hours today 11am-7pm)(151 W Dallas Ave) \n6pm-9pm – Cooper Lake State Park – Christmas in the Park: A Drive through Experience. Bring a canned good to donate \n\nSaturday\, December 14th \n\n7am-10am – 7F Waterin’ Hole and Grub House – Breakfast hours. 11am-9pm lunch and dinner hours. (60 S Side Sq) \n\n8am-3pm – Vetch Farm and Home – Coffee and more open. Drive through closes at 2pm. (111 NW 1st St)\n\n9am-11am – Cooper Methodist Church – Breakfast with Santa\, (200 SW 1st St) \n9am-6pm – Bryarly Rose Bakery  – Photo OPs with Santa\, Cookie Decorating\, Holiday Market Vendors. (21 North Side Square) \n9am-5pm – Cooper Outlet – Story of the Christmas Donkey Experience “Live Donkey & Petunia the Goat” + FREE gift while supplies last\, Cookies and in-store Specials\, music\, fun and photo ops (70 East Side Square) \n9am-5pm – Sweet Pea Boutique –  Drawing & Door Prizes (161 E Dallas)\n\n9am-5pm – Rosie and Co – 12 Days of Christmas Discounts and Giveaways (80 S Side Sq)\n\n10am-3pm – Funky Fresh Rags – Open (151 W Dallas Ave) \n10am-9pm – Cooper Lake State Park – Rain Deer and a Country Christmas Watercolor Painting Christmas Ornament. Meet at Pelican Point Pavilion \n\n10am – Cooper Clean Up Crew\n11am-9pm – Chamber Escape Room Open – The Great Gingerbread Escape – Hours. For Reservations call 903-395-4314. 4-6 people ($10 each). 41 West Side Square) \n11am-9pm – 903 Pizzeria & Pub – FREE Margarita or Beer with the purchase of any meal. 30 S Side Sq\n11am-2pm – Love Chapel Church of God in Christ Presents: FREE Community Holiday Meal. Dine in and take out. Will deliver to the elderly and sick/shut in. (521 N.W. 3rd St) \n\nNoon-6pm – Southern Faith Designs – Open (41 West Side Square)\n2pm-5pm – Bryarly Rose Bakery – Pictures with Santa\n4pm-7pm – Vetch Farm and Home – Jigsaw Puzzle Competition  \n6pm-9pm – Cooper Lake State Park – Christmas in the Park: A Drive through Experience. Bring a Canned Good to donate\n\nSunday\, December 15th \n\n11am-2pm – 903 Pizzeria & Pub – FREE Margarita or Beer with the purchase of any meal. 30 S Side Sq\n1pm-5pm – Chamber Escape Room Open – The Great Gingerbread Escape – Hours. For reservations Call 903-395-4314. 4-6 people ($10 each). 41 West Side Square
URL:http://deltacountychamber.com/event/christmas-on-the-square/
LOCATION:Cooper Square\, 60 NW 1st Street\, Cooper\, TX\, 75432\, United States
ATTACH;FMTTYPE=image/png:http://deltacountychamber.com/wp-content/uploads/2024/08/Document.png
END:VEVENT
BEGIN:VEVENT
DTSTART;TZID=UTC:20241213T160000
DTEND;TZID=UTC:20241215T190000
DTSTAMP:20260425T191226
CREATED:20240827T174606Z
LAST-MODIFIED:20241209T142806Z
UID:1272-1734105600-1734289200@deltacountychamber.com
SUMMARY:Escape Room
DESCRIPTION:The Delta County Chamber of Commerce has a special treat coming to a square near you. \nOn select days\, this December\, the Chamber will be hosting a Christmas themed escape room. What is an escape room\, you ask?? \n…a  room in which people are locked in\, in order to play a game requiring them to solve a series of puzzles within a certain amount of time to accomplish a goal\, typically finding the key to unlock the room. \nIn this case\, your mission is to locate the gingerbread man and set him free before he burns 🔥 (and dont worry\, we wont actually “lock” you in) \nGroups of 4-6 people will have 25 minutes to unlock the clues and solve the game. Age restrictions: recommended for 10 and up. Minors 14 and under must be accompanied by an adult. \nOpen Hours: \nDecember 7th: 11am-6pm \nDecember 13th: 4pm-9pm \nDecember 14th: 11am- 9pm \nDecember 15th: 2pm-7pm \nCost: $10 per person (minimum $40) \nEscape room runs every 30 minutes on the dot. Please reserve your time slot by calling 903-395-4314. Full deposit required at time of booking (no returns or refunds). Venmo or cash only
URL:http://deltacountychamber.com/event/escape-room/
LOCATION:TX
ATTACH;FMTTYPE=image/png:http://deltacountychamber.com/wp-content/uploads/2024/08/Photo_1723774132507.png
ORGANIZER;CN="Delta County Chamber of Commerce":MAILTO:deltaccc@yahoo.com
END:VEVENT
END:VCALENDAR